BEGIN:VCALENDAR
VERSION:2.0
PRODID:-//IPT-hanke - ECPv5.3.1.1//NONSGML v1.0//EN
CALSCALE:GREGORIAN
METHOD:PUBLISH
X-WR-CALNAME:IPT-hanke
X-ORIGINAL-URL:https://www.ipt-hanke.fi
X-WR-CALDESC:Events for IPT-hanke
BEGIN:VTIMEZONE
TZID:Europe/Helsinki
BEGIN:DAYLIGHT
TZOFFSETFROM:+0200
TZOFFSETTO:+0300
TZNAME:EEST
DTSTART:20220327T010000
END:DAYLIGHT
BEGIN:STANDARD
TZOFFSETFROM:+0300
TZOFFSETTO:+0200
TZNAME:EET
DTSTART:20221030T010000
END:STANDARD
END:VTIMEZONE
BEGIN:VEVENT
DTSTART;TZID=Europe/Helsinki:20220928T120000
DTEND;TZID=Europe/Helsinki:20220928T160000
DTSTAMP:20260425T181206
CREATED:20220627T171810Z
LAST-MODIFIED:20220627T171836Z
UID:1626-1664366400-1664380800@www.ipt-hanke.fi
SUMMARY:RAIN3-työpaja (Teema: lean-johtaminen)
DESCRIPTION:Ilmoittautuminen avataan myöhemmin. Tilaisuus on avoin kaikille IPT4- ja RAIN3-hankkeiden osallistujaorganisaatioille. \nLisätietoja: Sari Koskelo (sari.koskelo@vison.fi).
URL:https://www.ipt-hanke.fi/kalenteri/rain3-tyopaja-teema-lean-johtaminen/
END:VEVENT
END:VCALENDAR