BEGIN:VCALENDAR
VERSION:2.0
PRODID:-//IPT-hanke - ECPv5.3.1.1//NONSGML v1.0//EN
CALSCALE:GREGORIAN
METHOD:PUBLISH
X-WR-CALNAME:IPT-hanke
X-ORIGINAL-URL:https://www.ipt-hanke.fi
X-WR-CALDESC:Events for IPT-hanke
BEGIN:VTIMEZONE
TZID:Europe/Helsinki
BEGIN:DAYLIGHT
TZOFFSETFROM:+0200
TZOFFSETTO:+0300
TZNAME:EEST
DTSTART:20220327T010000
END:DAYLIGHT
BEGIN:STANDARD
TZOFFSETFROM:+0300
TZOFFSETTO:+0200
TZNAME:EET
DTSTART:20221030T010000
END:STANDARD
END:VTIMEZONE
BEGIN:VEVENT
DTSTART;VALUE=DATE:20221130
DTEND;VALUE=DATE:20221201
DTSTAMP:20260425T145812
CREATED:20220627T172036Z
LAST-MODIFIED:20220627T172036Z
UID:1631-1669766400-1669852799@www.ipt-hanke.fi
SUMMARY:RAIN3-työpaja (Teema: Lean ja vihreä siirtymä)
DESCRIPTION:Ilmoittautuminen avataan myöhemmin. Tilaisuus on avoin kaikille IPT4- ja RAIN3-hankkeiden osallistujaorganisaatioille. \nLisätietoja: Sari Koskelo (sari.koskelo@vison.fi)
URL:https://www.ipt-hanke.fi/kalenteri/rain3-tyopaja-teema-lean-ja-vihrea-siirtyma/
END:VEVENT
END:VCALENDAR